BEGIN:VCALENDAR
VERSION:2.0
PRODID:-//DanceeDance - ECPv6.15.20//NONSGML v1.0//EN
CALSCALE:GREGORIAN
METHOD:PUBLISH
X-WR-CALNAME:DanceeDance
X-ORIGINAL-URL:https://danceedance.it
X-WR-CALDESC:Eventi per DanceeDance
REFRESH-INTERVAL;VALUE=DURATION:PT1H
X-Robots-Tag:noindex
X-PUBLISHED-TTL:PT1H
BEGIN:VTIMEZONE
TZID:Europe/Rome
BEGIN:DAYLIGHT
TZOFFSETFROM:+0100
TZOFFSETTO:+0200
TZNAME:CEST
DTSTART:20190331T010000
END:DAYLIGHT
BEGIN:STANDARD
TZOFFSETFROM:+0200
TZOFFSETTO:+0100
TZNAME:CET
DTSTART:20191027T010000
END:STANDARD
BEGIN:DAYLIGHT
TZOFFSETFROM:+0100
TZOFFSETTO:+0200
TZNAME:CEST
DTSTART:20200329T010000
END:DAYLIGHT
BEGIN:STANDARD
TZOFFSETFROM:+0200
TZOFFSETTO:+0100
TZNAME:CET
DTSTART:20201025T010000
END:STANDARD
BEGIN:DAYLIGHT
TZOFFSETFROM:+0100
TZOFFSETTO:+0200
TZNAME:CEST
DTSTART:20210328T010000
END:DAYLIGHT
BEGIN:STANDARD
TZOFFSETFROM:+0200
TZOFFSETTO:+0100
TZNAME:CET
DTSTART:20211031T010000
END:STANDARD
END:VTIMEZONE
BEGIN:VEVENT
DTSTART;TZID=Europe/Rome:20200208T203000
DTEND;TZID=Europe/Rome:20200208T233000
DTSTAMP:20260422T103809
CREATED:20191109T093040Z
LAST-MODIFIED:20200125T101224Z
UID:924-1581193800-1581204600@danceedance.it
SUMMARY:Serata di Gala Corte Leonardi
DESCRIPTION:
URL:https://danceedance.it/evento/serata-di-gala-corte-leonardi/
LOCATION:Acetaia Leonardi\, Via Mazzacavallo\, 62\, Magreta di Formigine\, 41043\, Italia
ATTACH;FMTTYPE=image/jpeg:https://danceedance.it/wp-content/uploads/2019/11/8FEBBRAIO.jpg
END:VEVENT
BEGIN:VEVENT
DTSTART;TZID=Europe/Rome:20200216T080000
DTEND;TZID=Europe/Rome:20200216T170000
DTSTAMP:20260422T103809
CREATED:20200216T142856Z
LAST-MODIFIED:20200216T142856Z
UID:1257-1581840000-1581872400@danceedance.it
SUMMARY:Organizzazione Pullman CA DEL Ballo(bulli e PUPE)
DESCRIPTION:BOOGIE ACADEMY SCHOOL\, DANCE&DANCE e MONELLI DELLO SWING organizzano i pullman con destinazione Cà del ballo ravenna in occasione dell evento BULLI e PUPE edizione 2020 “rock around the clock”\nLive on stage THE LUCKY LUCIANOS\nDj set G.LUCA GRILLI\nCosto di partecipazione euro 25 con versamento caparra all atto della prenotazione di euro 15\nla quota comprende :\nviaggio a/r in pullman gran turismo\ningresso al locale (con consumazione compresa)\nluoghi di partenza:\nCARPI ore 19\,30 davanti al circolo GILIBERTI in via tassoni n.6\nMODENA presso il parcheggio antistante la POLISPORTIVA MODENA EST
URL:https://danceedance.it/evento/organizzazione-pullman-ca-del-ballobulli-e-pupe/
LOCATION:Ca’ Del Ballo\, Via Dismano\, 219\, Ravenna\, 48125\, Italia
ATTACH;FMTTYPE=image/jpeg:https://danceedance.it/wp-content/uploads/2020/02/82796536_2376493949122484_6615488592170975232_n.jpg
END:VEVENT
BEGIN:VEVENT
DTSTART;TZID=Europe/Rome:20200223T200000
DTEND;TZID=Europe/Rome:20200223T233000
DTSTAMP:20260422T103809
CREATED:20200216T142248Z
LAST-MODIFIED:20200216T142248Z
UID:1254-1582488000-1582500600@danceedance.it
SUMMARY:Sunday boogie fever villa dei glicini live P 51 airplanes
DESCRIPTION:DOMENICA 23 FEBBRAIO 2020  \nRistorante Villa dei Glicini Via Per Vignola 219 Pozza di Maranello (MO)  \nTradizionale e imperdibile appuntamento con il BOOGIE WOOGIE e ROCK N’ROLL organizzato dalla scuola DANCE & DANCE nella splendida location di Villa dei Glicini. \nLive on stage  P 51 AIRPLANES  \nPer chi viene a cena é gradita la prenotazione (336560474 Marco )\nSi cena per le 20\,30\nIngresso dopo cena dalle 21\,30 € 10\,00
URL:https://danceedance.it/evento/sunday-boogie-fever-villa-dei-glicini-live-p-51-airplanes/
LOCATION:Villa dei Glicini\, Via Per Vignola\, 219\, Maranello\, 41053\, Italia
ATTACH;FMTTYPE=image/jpeg:https://danceedance.it/wp-content/uploads/2020/02/84644955_1207128929492211_1977201723860582400_o.jpg
END:VEVENT
END:VCALENDAR