BEGIN:VCALENDAR
VERSION:2.0
PRODID:-//DanceeDance - ECPv6.15.20//NONSGML v1.0//EN
CALSCALE:GREGORIAN
METHOD:PUBLISH
X-ORIGINAL-URL:https://danceedance.it
X-WR-CALDESC:Eventi per DanceeDance
REFRESH-INTERVAL;VALUE=DURATION:PT1H
X-Robots-Tag:noindex
X-PUBLISHED-TTL:PT1H
BEGIN:VTIMEZONE
TZID:Europe/Rome
BEGIN:DAYLIGHT
TZOFFSETFROM:+0100
TZOFFSETTO:+0200
TZNAME:CEST
DTSTART:20190331T010000
END:DAYLIGHT
BEGIN:STANDARD
TZOFFSETFROM:+0200
TZOFFSETTO:+0100
TZNAME:CET
DTSTART:20191027T010000
END:STANDARD
BEGIN:DAYLIGHT
TZOFFSETFROM:+0100
TZOFFSETTO:+0200
TZNAME:CEST
DTSTART:20200329T010000
END:DAYLIGHT
BEGIN:STANDARD
TZOFFSETFROM:+0200
TZOFFSETTO:+0100
TZNAME:CET
DTSTART:20201025T010000
END:STANDARD
BEGIN:DAYLIGHT
TZOFFSETFROM:+0100
TZOFFSETTO:+0200
TZNAME:CEST
DTSTART:20210328T010000
END:DAYLIGHT
BEGIN:STANDARD
TZOFFSETFROM:+0200
TZOFFSETTO:+0100
TZNAME:CET
DTSTART:20211031T010000
END:STANDARD
END:VTIMEZONE
BEGIN:VEVENT
DTSTART;TZID=Europe/Rome:20200223T200000
DTEND;TZID=Europe/Rome:20200223T233000
DTSTAMP:20260422T122421
CREATED:20200216T142248Z
LAST-MODIFIED:20200216T142248Z
UID:1254-1582488000-1582500600@danceedance.it
SUMMARY:Sunday boogie fever villa dei glicini live P 51 airplanes
DESCRIPTION:DOMENICA 23 FEBBRAIO 2020  \nRistorante Villa dei Glicini Via Per Vignola 219 Pozza di Maranello (MO)  \nTradizionale e imperdibile appuntamento con il BOOGIE WOOGIE e ROCK N’ROLL organizzato dalla scuola DANCE & DANCE nella splendida location di Villa dei Glicini. \nLive on stage  P 51 AIRPLANES  \nPer chi viene a cena é gradita la prenotazione (336560474 Marco )\nSi cena per le 20\,30\nIngresso dopo cena dalle 21\,30 € 10\,00
URL:https://danceedance.it/evento/sunday-boogie-fever-villa-dei-glicini-live-p-51-airplanes/
LOCATION:Villa dei Glicini\, Via Per Vignola\, 219\, Maranello\, 41053\, Italia
ATTACH;FMTTYPE=image/jpeg:https://danceedance.it/wp-content/uploads/2020/02/84644955_1207128929492211_1977201723860582400_o.jpg
END:VEVENT
END:VCALENDAR