BEGIN:VCALENDAR
VERSION:2.0
PRODID:-//DanceeDance - ECPv6.15.20//NONSGML v1.0//EN
CALSCALE:GREGORIAN
METHOD:PUBLISH
X-ORIGINAL-URL:https://danceedance.it
X-WR-CALDESC:Eventi per DanceeDance
REFRESH-INTERVAL;VALUE=DURATION:PT1H
X-Robots-Tag:noindex
X-PUBLISHED-TTL:PT1H
BEGIN:VTIMEZONE
TZID:Europe/Rome
BEGIN:DAYLIGHT
TZOFFSETFROM:+0100
TZOFFSETTO:+0200
TZNAME:CEST
DTSTART:20180325T010000
END:DAYLIGHT
BEGIN:STANDARD
TZOFFSETFROM:+0200
TZOFFSETTO:+0100
TZNAME:CET
DTSTART:20181028T010000
END:STANDARD
BEGIN:DAYLIGHT
TZOFFSETFROM:+0100
TZOFFSETTO:+0200
TZNAME:CEST
DTSTART:20190331T010000
END:DAYLIGHT
BEGIN:STANDARD
TZOFFSETFROM:+0200
TZOFFSETTO:+0100
TZNAME:CET
DTSTART:20191027T010000
END:STANDARD
BEGIN:DAYLIGHT
TZOFFSETFROM:+0100
TZOFFSETTO:+0200
TZNAME:CEST
DTSTART:20200329T010000
END:DAYLIGHT
BEGIN:STANDARD
TZOFFSETFROM:+0200
TZOFFSETTO:+0100
TZNAME:CET
DTSTART:20201025T010000
END:STANDARD
END:VTIMEZONE
BEGIN:VEVENT
DTSTART;TZID=Europe/Rome:20191124T203000
DTEND;TZID=Europe/Rome:20191124T233000
DTSTAMP:20260422T173946
CREATED:20191109T091709Z
LAST-MODIFIED:20191124T165618Z
UID:917-1574627400-1574638200@danceedance.it
SUMMARY:Sunday Boogie Fever Villa dei Glicini Dj Luca Grilli
DESCRIPTION:DOMENICA 24 NOVEMBRE 2019 \nRistorante Villa dei Glicini Via Per Vignola 219 Pozza di Maranello (MO) \nTradizionale e imperdibile appuntamento con il BOOGIE WOOGIE e ROCK N’ROLL organizzato dalla scuola DANCE & DANCE nella splendida location di Villa dei Glicini. \nPreparate le scarpette perché con la sua splendida selezione musicale ci farà ballare senza sosta a ritmo di Boogie Woogie e rock’n roll LUCA DJ \nPer chi viene a cena é gradita la prenotazione (336560474 Marco )\nSi cena per le 20\,30\nIngresso dopo cena dalle 21\,30 €7\,00
URL:https://danceedance.it/evento/sunday-boogie-fever-villa-dei-glicini-dj-luca-grilli/
LOCATION:Villa dei Glicini\, Via Per Vignola\, 219\, Maranello\, 41053\, Italia
ATTACH;FMTTYPE=image/jpeg:https://danceedance.it/wp-content/uploads/2019/11/75130005_1125217017683403_2747661643503632384_o.jpg
END:VEVENT
END:VCALENDAR