BEGIN:VCALENDAR
VERSION:2.0
PRODID:-//DanceeDance - ECPv6.15.20//NONSGML v1.0//EN
CALSCALE:GREGORIAN
METHOD:PUBLISH
X-WR-CALNAME:DanceeDance
X-ORIGINAL-URL:https://danceedance.it
X-WR-CALDESC:Eventi per DanceeDance
REFRESH-INTERVAL;VALUE=DURATION:PT1H
X-Robots-Tag:noindex
X-PUBLISHED-TTL:PT1H
BEGIN:VTIMEZONE
TZID:Europe/Rome
BEGIN:DAYLIGHT
TZOFFSETFROM:+0100
TZOFFSETTO:+0200
TZNAME:CEST
DTSTART:20180325T010000
END:DAYLIGHT
BEGIN:STANDARD
TZOFFSETFROM:+0200
TZOFFSETTO:+0100
TZNAME:CET
DTSTART:20181028T010000
END:STANDARD
BEGIN:DAYLIGHT
TZOFFSETFROM:+0100
TZOFFSETTO:+0200
TZNAME:CEST
DTSTART:20190331T010000
END:DAYLIGHT
BEGIN:STANDARD
TZOFFSETFROM:+0200
TZOFFSETTO:+0100
TZNAME:CET
DTSTART:20191027T010000
END:STANDARD
BEGIN:DAYLIGHT
TZOFFSETFROM:+0100
TZOFFSETTO:+0200
TZNAME:CEST
DTSTART:20200329T010000
END:DAYLIGHT
BEGIN:STANDARD
TZOFFSETFROM:+0200
TZOFFSETTO:+0100
TZNAME:CET
DTSTART:20201025T010000
END:STANDARD
END:VTIMEZONE
BEGIN:VEVENT
DTSTART;TZID=Europe/Rome:20191101T213000
DTEND;TZID=Europe/Rome:20191101T233000
DTSTAMP:20260422T173814
CREATED:20191022T172857Z
LAST-MODIFIED:20191022T172857Z
UID:379-1572643800-1572651000@danceedance.it
SUMMARY:Good Rockin Tonight Live TAXI ROAD
DESCRIPTION:VENERDì 1 NOVEMBRE 2019 \nPolisportiva Mo est\nVia Indipendenza 25 (MO) \nGOOD ROCKIN TONIGHT\nscoppiettante appuntamento di inizio inverno con il boogie woogie e rock’n roll \norganizzato dalla scuola di ballo DANCE& DANCE \nDalle ore 21\,30 si ballerà nella bellissima pista della polisportiva Mo est\, \nin Consolle da Ravenna LUCA DJ \ndal vivo per la prima volta a Mo est\nTAXI ROAD \nIngresso € 8\,00 \nPer info e prenotazione tavoli :\n336 560474 Marco\n059 283449 Pol Mo est
URL:https://danceedance.it/evento/good-rockin-tonight-live-taxi-road/
LOCATION:Polisportiva Modena Est\, Viale Indipendenza\, 25\, Modena\, 41122\, Italia
ATTACH;FMTTYPE=image/jpeg:https://danceedance.it/wp-content/uploads/2019/10/72455204_1101139043424534_5721147238592282624_n.jpg
END:VEVENT
END:VCALENDAR